BEGIN:VCALENDAR
VERSION:2.0
CALSCALE:GREGORIAN
PRODID:adamgibbons/ics
METHOD:PUBLISH
X-PUBLISHED-TTL:PT1H
BEGIN:VEVENT
UID:297@event.cologne
SUMMARY:Führung: Zu Besuch in der Wohlfahrtsschule. Die erste soziale Fraue
	nschule in Köln
DTSTAMP:20260420T182356Z
DTSTART:20260408T150000Z
DTEND:20260408T160000Z
DESCRIPTION:Innenstadt\, EintrittFrei\n\nIn der Führung wird die Geschichte
	 der Wohlfahrtsschule vorgestellt.\n\n17 bis 18 Uhr\n\nEintritt frei
URL:https://event.cologne/event/fuhrung-zu-besuch-in-der-wohlfahrtsschule-d
	ie-erste-soziale-frauenschule-in-koln
LOCATION:Historisches Archiv mit Rheinischem Bildarchiv - Eifelwall 5\, 506
	74 Köln
STATUS:CONFIRMED
CATEGORIES:EintrittFrei,Führung,Innenstadt
X-ALT-DESC;FMTTYPE=text/html:<p><strong>Innenstadt, EintrittFrei</strong></
	p><p>In der Führung wird die Geschichte der Wohlfahrtsschule vorgestellt.<
	/p><p>17 bis 18 Uhr</p><p>Eintritt frei</p>
BEGIN:VALARM
ACTION:DISPLAY
DESCRIPTION:Führung: Zu Besuch in der Wohlfahrtsschule. Die erste soziale F
	rauenschule in Köln
TRIGGER:-PT1H
END:VALARM
END:VEVENT
END:VCALENDAR
