BEGIN:VCALENDAR
VERSION:2.0
CALSCALE:GREGORIAN
PRODID:adamgibbons/ics
METHOD:PUBLISH
X-PUBLISHED-TTL:PT1H
BEGIN:VEVENT
UID:763@event.cologne
SUMMARY:Führung: Zu Besuch im Rheinischen Bildarchiv
DTSTAMP:20260423T012114Z
DTSTART:20260430T130000Z
DTEND:20260430T140000Z
DESCRIPTION:Bei diesem Rundgang erhalten Sie einen umfassenden Einblick in 
	den Arbeitsalltag\neines modernen Bildarchivs.\n\n15 bis 16 Uhr\n\nKostenf
	rei
URL:https://event.cologne/event/fuhrung-zu-besuch-im-rheinischen-bildarchiv
LOCATION:Historisches Archiv mit Rheinischem Bildarchiv - Eifelwall 5\, 506
	74 Köln
STATUS:CONFIRMED
CATEGORIES:Führung,Innenstadt
X-ALT-DESC;FMTTYPE=text/html:<p>Bei diesem Rundgang erhalten Sie einen umfa
	ssenden Einblick in den Arbeitsalltag eines modernen Bildarchivs.</p><p>15
	 bis 16 Uhr</p><p>Kostenfrei</p>
BEGIN:VALARM
ACTION:DISPLAY
DESCRIPTION:Führung: Zu Besuch im Rheinischen Bildarchiv
TRIGGER:-PT1H
END:VALARM
END:VEVENT
END:VCALENDAR
