BEGIN:VCALENDAR
VERSION:2.0
CALSCALE:GREGORIAN
PRODID:adamgibbons/ics
METHOD:PUBLISH
X-PUBLISHED-TTL:PT1H
BEGIN:VEVENT
UID:291@event.cologne
SUMMARY:Führung: Zu Besuch bei Eisspeicher und Wärmepumpe
DTSTAMP:20260420T182345Z
DTSTART:20260311T160000Z
DTEND:20260311T170000Z
DESCRIPTION:Innenstadt\, EintrittFrei\n\nIn dieser Führung wird nicht das A
	rchivgut im Vordergrund stehen\, hier zeigen\nwir die technischen Anlagen 
	und ihre Funktionsprinzipien.\n\n17 bis 18 Uhr\n\nEintritt frei
URL:https://event.cologne/event/fuhrung-zu-besuch-bei-eisspeicher-und-warme
	pumpe
LOCATION:Historisches Archiv mit Rheinischem Bildarchiv - Eifelwall 5\, 506
	74 Köln
STATUS:CONFIRMED
CATEGORIES:EintrittFrei,Führung,Innenstadt
X-ALT-DESC;FMTTYPE=text/html:<p><strong>Innenstadt, EintrittFrei</strong></
	p><p>In dieser Führung wird nicht das Archivgut im Vordergrund stehen, hie
	r zeigen wir die technischen Anlagen und ihre Funktionsprinzipien.</p><p>1
	7 bis 18 Uhr</p><p>Eintritt frei</p>
BEGIN:VALARM
ACTION:DISPLAY
DESCRIPTION:Führung: Zu Besuch bei Eisspeicher und Wärmepumpe
TRIGGER:-PT1H
END:VALARM
END:VEVENT
END:VCALENDAR
