BEGIN:VCALENDAR
VERSION:2.0
CALSCALE:GREGORIAN
PRODID:adamgibbons/ics
METHOD:PUBLISH
X-PUBLISHED-TTL:PT1H
BEGIN:VEVENT
UID:292@event.cologne
SUMMARY:Führung durch die Ausstellung Wegbereiterinnen des Wandels mit der 
	Kuratorin Dr. Daniela Wagner
DTSTAMP:20260420T182356Z
DTSTART:20260318T160000Z
DTEND:20260318T170000Z
DESCRIPTION:Innenstadt\n\nWir laden Sie ein zu einer Führung mit Kuratorin 
	Dr. Daniela Wagner durch die\nAusstellung Wegbereiterinnen des Wandels – D
	ie Erste Frauenbewegung in Köln\, die\nvertiefende Einblicke in die Expona
	te und die Lebensgeschichten der mutigen\nFrauen bietet.\n\n17 bis 18 Uhr\
	n\nKostenlos
URL:https://event.cologne/event/fuhrung-durch-die-ausstellung-wegbereiterin
	nen-des-wandels-mit-der-kuratorin-dr-daniela-wagner
LOCATION:Historisches Archiv mit Rheinischem Bildarchiv - Eifelwall 5\, 506
	74 Köln
STATUS:CONFIRMED
CATEGORIES:Führung,Innenstadt
X-ALT-DESC;FMTTYPE=text/html:<p><strong>Innenstadt</strong></p><p>Wir laden
	 Sie ein zu einer Führung mit Kuratorin Dr. Daniela Wagner durch die Ausst
	ellung Wegbereiterinnen des Wandels – Die Erste Frauenbewegung in Köln, di
	e vertiefende Einblicke in die Exponate und die Lebensgeschichten der muti
	gen Frauen bietet.</p><p>17 bis 18 Uhr</p><p>Kostenlos</p>
BEGIN:VALARM
ACTION:DISPLAY
DESCRIPTION:Führung durch die Ausstellung Wegbereiterinnen des Wandels mit 
	der Kuratorin Dr. Daniela Wagner
TRIGGER:-PT1H
END:VALARM
END:VEVENT
END:VCALENDAR
