BEGIN:VCALENDAR
VERSION:2.0
CALSCALE:GREGORIAN
PRODID:adamgibbons/ics
METHOD:PUBLISH
X-PUBLISHED-TTL:PT1H
BEGIN:VEVENT
UID:765@event.cologne
SUMMARY:Führung: Digitale und analoge Bildproduktion in der FotoMedienWerks
	tatt
DTSTAMP:20260423T013245Z
DTSTART:20260430T160000Z
DTEND:20260430T170000Z
DESCRIPTION:Seit dessen Gründung 1926 produziert das Rheinische Bildarchiv 
	fotografische\nNeuaufnahmen für unsere Stadt. Zuständig dafür ist die Foto
	MedienWerkstatt.\n\n18 bis 19 Uhr\n\nKostenfrei
URL:https://event.cologne/event/fuhrung-digitale-und-analoge-bildproduktion
	-in-der-fotomedienwerkstatt
LOCATION:Historisches Archiv mit Rheinischem Bildarchiv - Eifelwall 5\, 506
	74 Köln
STATUS:CONFIRMED
CATEGORIES:Führung,Innenstadt
X-ALT-DESC;FMTTYPE=text/html:<p>Seit dessen Gründung 1926 produziert das Rh
	einische Bildarchiv fotografische Neuaufnahmen für unsere Stadt. Zuständig
	 dafür ist die FotoMedienWerkstatt.</p><p>18 bis 19 Uhr</p><p>Kostenfrei</
	p>
BEGIN:VALARM
ACTION:DISPLAY
DESCRIPTION:Führung: Digitale und analoge Bildproduktion in der FotoMedienW
	erkstatt
TRIGGER:-PT1H
END:VALARM
END:VEVENT
END:VCALENDAR
