BEGIN:VCALENDAR
VERSION:2.0
CALSCALE:GREGORIAN
PRODID:adamgibbons/ics
METHOD:PUBLISH
X-PUBLISHED-TTL:PT1H
BEGIN:VEVENT
UID:764@event.cologne
SUMMARY:Führung: Analoge Retuscheverfahren in der Fotografie
DTSTAMP:20260423T012521Z
DTSTART:20260430T143000Z
DTEND:20260430T153000Z
DESCRIPTION:Fotos werden nicht erst seit Einführung der Digitalfotografie m
	anipuliert\, auch\nanaloge Verfahren umfassten immer schon eine teils aufw
	ändige Bearbeitung bis\nzum fertigen Abzug.\n\n16:30 bis 17:30 Uhr\n\nKost
	enfrei
URL:https://event.cologne/event/fuhrung-analoge-retuscheverfahren-in-der-fo
	tografie
LOCATION:Historisches Archiv mit Rheinischem Bildarchiv - Eifelwall 5\, 506
	74 Köln
STATUS:CONFIRMED
CATEGORIES:Führung,Innenstadt
X-ALT-DESC;FMTTYPE=text/html:<p>Fotos werden nicht erst seit Einführung der
	 Digitalfotografie manipuliert, auch analoge Verfahren umfassten immer sch
	on eine teils aufwändige Bearbeitung bis zum fertigen Abzug.</p><p>16:30 b
	is 17:30 Uhr</p><p>Kostenfrei</p>
BEGIN:VALARM
ACTION:DISPLAY
DESCRIPTION:Führung: Analoge Retuscheverfahren in der Fotografie
TRIGGER:-PT1H
END:VALARM
END:VEVENT
END:VCALENDAR
