BEGIN:VCALENDAR
VERSION:2.0
CALSCALE:GREGORIAN
PRODID:adamgibbons/ics
METHOD:PUBLISH
X-PUBLISHED-TTL:PT1H
BEGIN:VEVENT
UID:769@event.cologne
SUMMARY:Fotowalk: Köln um 5 Uhr 30 – Auf den Spuren Chargesheimers
DTSTAMP:20260423T013507Z
DTSTART:20260603T170000Z
DTEND:20260603T200000Z
DESCRIPTION:Wir spüren Chargesheimers berühmtem Fotobuch Köln 5 Uhr 30 nach
	 – um 5:30 Uhr!\n\n5 bis 9 Uhr\n\nKostenfrei
URL:https://event.cologne/event/fotowalk-koln-um-5-uhr-30-auf-den-spuren-ch
	argesheimers
LOCATION:Historisches Archiv mit Rheinischem Bildarchiv - Eifelwall 5\, 506
	74 Köln
STATUS:CONFIRMED
CATEGORIES:Innenstadt
X-ALT-DESC;FMTTYPE=text/html:<p>Wir spüren Chargesheimers berühmtem Fotobuc
	h Köln 5 Uhr 30 nach – um 5:30 Uhr!</p><p>5 bis 9 Uhr</p><p>Kostenfrei</p>
BEGIN:VALARM
ACTION:DISPLAY
DESCRIPTION:Fotowalk: Köln um 5 Uhr 30 – Auf den Spuren Chargesheimers
TRIGGER:-PT1H
END:VALARM
END:VEVENT
END:VCALENDAR
