BEGIN:VCALENDAR
VERSION:2.0
CALSCALE:GREGORIAN
PRODID:adamgibbons/ics
METHOD:PUBLISH
X-PUBLISHED-TTL:PT1H
BEGIN:VEVENT
UID:84@event.cologne
SUMMARY:Florian Schroeder SCHLUSS JETZT!
DTSTAMP:20260420T181705Z
DTSTART:20261222T173000Z
DTEND:20261222T173000Z
DESCRIPTION:Der satirische Jahresrückblick\nBestuhlt
URL:https://event.cologne/event/florian-schroeder-schluss-jetzt
GEO:50.9459;6.97042
LOCATION:Tanzbrunnen - Rheinparkweg 1\, 50679 Köln
STATUS:CONFIRMED
CATEGORIES:
X-ALT-DESC;FMTTYPE=text/html:<p>Der satirische Jahresrückblick<br>Bestuhlt<
	/p>
BEGIN:VALARM
ACTION:DISPLAY
DESCRIPTION:Florian Schroeder SCHLUSS JETZT!
TRIGGER:-PT1H
END:VALARM
END:VEVENT
END:VCALENDAR
