BEGIN:VCALENDAR
VERSION:2.0
CALSCALE:GREGORIAN
PRODID:adamgibbons/ics
METHOD:PUBLISH
X-PUBLISHED-TTL:PT1H
BEGIN:VEVENT
UID:119@event.cologne
SUMMARY:Florian Künstler
DTSTAMP:20260420T181528Z
DTSTART:20260828T160000Z
DTEND:20260828T160000Z
DESCRIPTION:Der Support Act für das Konzert von Florian Künstler steht fest
	: Nico Gomez\neröffnet den Abend.
URL:https://event.cologne/event/florian-kunstler
GEO:50.9459;6.97042
LOCATION:Tanzbrunnen - Rheinparkweg 1\, 50679 Köln
STATUS:CONFIRMED
CATEGORIES:
X-ALT-DESC;FMTTYPE=text/html:<p>Der Support Act für das Konzert von Florian
	 Künstler steht fest: Nico Gomez eröffnet den Abend.</p>
BEGIN:VALARM
ACTION:DISPLAY
DESCRIPTION:Florian Künstler
TRIGGER:-PT1H
END:VALARM
END:VEVENT
END:VCALENDAR
