BEGIN:VCALENDAR
VERSION:2.0
CALSCALE:GREGORIAN
PRODID:adamgibbons/ics
METHOD:PUBLISH
X-PUBLISHED-TTL:PT1H
BEGIN:VEVENT
UID:34@event.cologne
SUMMARY:Fantasy – Bube Dame König Tour 2026
DTSTAMP:20260420T182149Z
DTSTART:20260409T160000Z
DTEND:20260409T160000Z
DESCRIPTION:Bestuhlt
URL:https://event.cologne/event/fantasy-bube-dame-konig-tour-2026
GEO:50.9459;6.97042
LOCATION:Tanzbrunnen - Rheinparkweg 1\, 50679 Köln
STATUS:CONFIRMED
CATEGORIES:
X-ALT-DESC;FMTTYPE=text/html:<p>Bestuhlt</p>
BEGIN:VALARM
ACTION:DISPLAY
DESCRIPTION:Fantasy – Bube Dame König Tour 2026
TRIGGER:-PT1H
END:VALARM
END:VEVENT
END:VCALENDAR
