BEGIN:VCALENDAR
VERSION:2.0
CALSCALE:GREGORIAN
PRODID:adamgibbons/ics
METHOD:PUBLISH
X-PUBLISHED-TTL:PT1H
BEGIN:VEVENT
UID:175@event.cologne
SUMMARY:Familien-Benefizkonzert mit den Lucky Kids
DTSTAMP:20260420T182404Z
DTSTART:20260326T170000Z
DTEND:20260326T210000Z
DESCRIPTION:Rodenkirchen\n\nOb Ohrwurm-Garantie oder Mitsing-Alarm: Der Kin
	der- und Jugendchor Lucky Kids\nhat ein buntes Repertoire im Gepäck\, das 
	gute Laune garantiert.\n\n18 Uhr\n\nEintritt frei (Spenden erbeten)
URL:https://event.cologne/event/familien-benefizkonzert-mit-den-lucky-kids
LOCATION:Erzengel-Michael-Kirche - Pfarrer-te-Reh-Straße 7\, 50999 Köln
STATUS:CONFIRMED
CATEGORIES:Konzert,Rodenkirchen
X-ALT-DESC;FMTTYPE=text/html:<p><strong>Rodenkirchen</strong></p><p>Ob Ohrw
	urm-Garantie oder Mitsing-Alarm: Der Kinder- und Jugendchor Lucky Kids hat
	 ein buntes Repertoire im Gepäck, das gute Laune garantiert.</p><p>18 Uhr<
	/p><p>Eintritt frei (Spenden erbeten)</p>
BEGIN:VALARM
ACTION:DISPLAY
DESCRIPTION:Familien-Benefizkonzert mit den Lucky Kids
TRIGGER:-PT1H
END:VALARM
END:VEVENT
END:VCALENDAR
