BEGIN:VCALENDAR
VERSION:2.0
CALSCALE:GREGORIAN
PRODID:adamgibbons/ics
METHOD:PUBLISH
X-PUBLISHED-TTL:PT1H
BEGIN:VEVENT
UID:342@event.cologne
SUMMARY:Fahrradtour durch den Dünnwalder Wald
DTSTAMP:20260420T181857Z
DTSTART:20260321T130000Z
DTEND:20260321T210000Z
DESCRIPTION:Mülheim\n\nInternationaler Tag der Wälder\n\n14 Uhr\n\nDie Vera
	nstaltung ist kostenlos
URL:https://event.cologne/event/fahrradtour-durch-den-dunnwalder-wald
GEO:50.9952;7.06034
LOCATION:Waldbad Dünnwald - Peter-Baum-Weg 20\, 51069 Köln
STATUS:CONFIRMED
CATEGORIES:Mülheim
X-ALT-DESC;FMTTYPE=text/html:<p><strong>Mülheim</strong></p><p>Internationa
	ler Tag der Wälder</p><p>14 Uhr</p><p>Die Veranstaltung ist kostenlos</p>
BEGIN:VALARM
ACTION:DISPLAY
DESCRIPTION:Fahrradtour durch den Dünnwalder Wald
TRIGGER:-PT1H
END:VALARM
END:VEVENT
END:VCALENDAR
