BEGIN:VCALENDAR
VERSION:2.0
CALSCALE:GREGORIAN
PRODID:adamgibbons/ics
METHOD:PUBLISH
X-PUBLISHED-TTL:PT1H
BEGIN:VEVENT
UID:109@event.cologne
SUMMARY:Even Flow Festival
DTSTAMP:20260420T181708Z
DTSTART:20260712T123000Z
DTEND:20260712T123000Z
DESCRIPTION:Unbestuhlt
URL:https://event.cologne/event/even-flow-festival-1
GEO:50.9459;6.97042
LOCATION:Tanzbrunnen - Rheinparkweg 1\, 50679 Köln
STATUS:CONFIRMED
CATEGORIES:
X-ALT-DESC;FMTTYPE=text/html:<p>Unbestuhlt</p>
BEGIN:VALARM
ACTION:DISPLAY
DESCRIPTION:Even Flow Festival
TRIGGER:-PT1H
END:VALARM
END:VEVENT
END:VCALENDAR
