BEGIN:VCALENDAR
VERSION:2.0
CALSCALE:GREGORIAN
PRODID:adamgibbons/ics
METHOD:PUBLISH
X-PUBLISHED-TTL:PT1H
BEGIN:VEVENT
UID:101@event.cologne
SUMMARY:Ethel Cain – The Willoughby Tucker Forever Tour
DTSTAMP:20260420T182352Z
DTSTART:20260616T160000Z
DTEND:20260616T160000Z
DESCRIPTION:Unbestuhlt
URL:https://event.cologne/event/ethel-cain-the-willoughby-tucker-forever-to
	ur
GEO:50.9459;6.97042
LOCATION:Tanzbrunnen - Rheinparkweg 1\, 50679 Köln
STATUS:CONFIRMED
CATEGORIES:
X-ALT-DESC;FMTTYPE=text/html:<p>Unbestuhlt</p>
BEGIN:VALARM
ACTION:DISPLAY
DESCRIPTION:Ethel Cain – The Willoughby Tucker Forever Tour
TRIGGER:-PT1H
END:VALARM
END:VEVENT
END:VCALENDAR
