BEGIN:VCALENDAR
VERSION:2.0
CALSCALE:GREGORIAN
PRODID:adamgibbons/ics
METHOD:PUBLISH
X-PUBLISHED-TTL:PT1H
BEGIN:VEVENT
UID:183@event.cologne
SUMMARY:Erste Töne mit der Ukulele
DTSTAMP:20260420T181656Z
DTSTART:20260425T090000Z
DTEND:20260425T103000Z
DESCRIPTION:Innenstadt\, EintrittFrei\n\nIm Rahmen des Makerspace-Programms
	 im Interim Zentralbibliothek.\n\n11 bis 12:30 Uhr\n\nDie Teilnahme ist ko
	stenlos.
URL:https://event.cologne/event/erste-tone-mit-der-ukulele
GEO:50.9371;6.95656
LOCATION:Interim Zentralbibliothek - Hohe Straße 68-82\, 50667 Köln
STATUS:CONFIRMED
CATEGORIES:EintrittFrei,Innenstadt,Konzert
X-ALT-DESC;FMTTYPE=text/html:<p><strong>Innenstadt, EintrittFrei</strong></
	p><p>Im Rahmen des Makerspace-Programms im Interim Zentralbibliothek.</p><
	p>11 bis 12:30 Uhr</p><p>Die Teilnahme ist kostenlos.</p>
BEGIN:VALARM
ACTION:DISPLAY
DESCRIPTION:Erste Töne mit der Ukulele
TRIGGER:-PT1H
END:VALARM
END:VEVENT
END:VCALENDAR
