BEGIN:VCALENDAR
VERSION:2.0
CALSCALE:GREGORIAN
PRODID:adamgibbons/ics
METHOD:PUBLISH
X-PUBLISHED-TTL:PT1H
BEGIN:VEVENT
UID:31@event.cologne
SUMMARY:Erda – Tour 2026
DTSTAMP:20260420T181700Z
DTSTART:20260402T170000Z
DTEND:20260402T170000Z
URL:https://event.cologne/event/erda-tour-2026
GEO:50.9459;6.97042
LOCATION:Tanzbrunnen - Rheinparkweg 1\, 50679 Köln
STATUS:CONFIRMED
CATEGORIES:
BEGIN:VALARM
ACTION:DISPLAY
DESCRIPTION:Erda – Tour 2026
TRIGGER:-PT1H
END:VALARM
END:VEVENT
END:VCALENDAR
