BEGIN:VCALENDAR
VERSION:2.0
CALSCALE:GREGORIAN
PRODID:adamgibbons/ics
METHOD:PUBLISH
X-PUBLISHED-TTL:PT1H
BEGIN:VEVENT
UID:280@event.cologne
SUMMARY:Einmal Dirigent*in sein
DTSTAMP:20260420T181529Z
DTSTART:20260408T130000Z
DTEND:20260408T140000Z
DESCRIPTION:Innenstadt\, EintrittFrei\n\nMusikworkshop mit spielerischem Zu
	gang zum Thema Demokratie. Im Rahmen unseres\nProgramms Maker Kids in den 
	Osterferien. Im Interim Zentralbibliothek.\n\n15 bis 16 Uhr\n\nDie Teilnah
	me ist kostenlos.
URL:https://event.cologne/event/einmal-dirigentin-sein
GEO:50.9371;6.95656
LOCATION:Interim Zentralbibliothek - Hohe Straße 68-82\, 50667 Köln
STATUS:CONFIRMED
CATEGORIES:EintrittFrei,Familie,Innenstadt
X-ALT-DESC;FMTTYPE=text/html:<p><strong>Innenstadt, EintrittFrei</strong></
	p><p>Musikworkshop mit spielerischem Zugang zum Thema Demokratie. Im Rahme
	n unseres Programms Maker Kids in den Osterferien. Im Interim Zentralbibli
	othek.</p><p>15 bis 16 Uhr</p><p>Die Teilnahme ist kostenlos.</p>
BEGIN:VALARM
ACTION:DISPLAY
DESCRIPTION:Einmal Dirigent*in sein
TRIGGER:-PT1H
END:VALARM
END:VEVENT
END:VCALENDAR
