BEGIN:VCALENDAR
VERSION:2.0
CALSCALE:GREGORIAN
PRODID:adamgibbons/ics
METHOD:PUBLISH
X-PUBLISHED-TTL:PT1H
BEGIN:VEVENT
UID:747@event.cologne
SUMMARY:Einmal Dirigent*in sein
DTSTAMP:20260422T100944Z
DTSTART:20260429T133000Z
DTEND:20260429T143000Z
DESCRIPTION:Mit einem Musikworkshop für unsere Kleinsten von 4 bis 5 Jahren
	 führen wir\nspielerisch an das Thema Demokratie heran – im Interim der Ze
	ntralbibliothek.\n\n15:30 bis 16:30 Uhr\n\nDie Teilnahme ist kostenlos.
URL:https://event.cologne/event/einmal-dirigentin-sein-1
GEO:50.9371;6.95656
LOCATION:Interim Zentralbibliothek - Hohe Straße 68-82\, 50667 Köln
STATUS:CONFIRMED
CATEGORIES:EintrittFrei,Familie,Innenstadt
X-ALT-DESC;FMTTYPE=text/html:<p>Mit einem Musikworkshop für unsere Kleinste
	n von 4 bis 5 Jahren führen wir spielerisch an das Thema Demokratie heran 
	– im Interim der Zentralbibliothek.</p><p>15:30 bis 16:30 Uhr</p><p>Die Te
	ilnahme ist kostenlos.</p>
BEGIN:VALARM
ACTION:DISPLAY
DESCRIPTION:Einmal Dirigent*in sein
TRIGGER:-PT1H
END:VALARM
END:VEVENT
END:VCALENDAR
