BEGIN:VCALENDAR
VERSION:2.0
CALSCALE:GREGORIAN
PRODID:adamgibbons/ics
METHOD:PUBLISH
X-PUBLISHED-TTL:PT1H
BEGIN:VEVENT
UID:791@event.cologne
SUMMARY:Einführung in den Videoschnitt
DTSTAMP:20260425T104148Z
DTSTART:20260609T150000Z
DTEND:20260609T163000Z
DESCRIPTION:Grundlegende Funktionen der Schnitt-Software DaVinci Resolve ke
	nnenlernen – ein\nMakerspace-Workshop im Interim Zentralbibliothek.\n\n17 
	bis 18:30 Uhr\n\nDie Teilnahme ist kostenlos.
URL:https://event.cologne/event/einfuhrung-in-den-videoschnitt-5
GEO:50.9371;6.95656
LOCATION:Interim Zentralbibliothek - Hohe Straße 68-82\, 50667 Köln
STATUS:CONFIRMED
CATEGORIES:EintrittFrei,Innenstadt
X-ALT-DESC;FMTTYPE=text/html:<p>Grundlegende Funktionen der Schnitt-Softwar
	e DaVinci Resolve kennenlernen – ein Makerspace-Workshop im Interim Zentra
	lbibliothek.</p><p>17 bis 18:30 Uhr</p><p>Die Teilnahme ist kostenlos.</p>
BEGIN:VALARM
ACTION:DISPLAY
DESCRIPTION:Einführung in den Videoschnitt
TRIGGER:-PT1H
END:VALARM
END:VEVENT
END:VCALENDAR
