BEGIN:VCALENDAR
VERSION:2.0
CALSCALE:GREGORIAN
PRODID:adamgibbons/ics
METHOD:PUBLISH
X-PUBLISHED-TTL:PT1H
BEGIN:VEVENT
UID:349@event.cologne
SUMMARY:Einführung in den Videoschnitt
DTSTAMP:20260420T182337Z
DTSTART:20260325T151500Z
DTEND:20260325T164500Z
DESCRIPTION:Innenstadt\, EintrittFrei\n\nGrundlegende Funktionen der Schnit
	t-Software DaVinci Resolve kennenlernen – ein\nMakerspace-Workshop im Inte
	rim Zentralbibliothek.\n\n16:15 bis 17:45 Uhr\n\nDie Teilnahme ist kostenl
	os.
URL:https://event.cologne/event/einfuhrung-in-den-videoschnitt-1
GEO:50.9371;6.95656
LOCATION:Interim Zentralbibliothek - Hohe Straße 68-82\, 50667 Köln
STATUS:CONFIRMED
CATEGORIES:EintrittFrei,Innenstadt
X-ALT-DESC;FMTTYPE=text/html:<p><strong>Innenstadt, EintrittFrei</strong></
	p><p>Grundlegende Funktionen der Schnitt-Software DaVinci Resolve kennenle
	rnen – ein Makerspace-Workshop im Interim Zentralbibliothek.</p><p>16:15 b
	is 17:45 Uhr</p><p>Die Teilnahme ist kostenlos.</p>
BEGIN:VALARM
ACTION:DISPLAY
DESCRIPTION:Einführung in den Videoschnitt
TRIGGER:-PT1H
END:VALARM
END:VEVENT
END:VCALENDAR
