BEGIN:VCALENDAR
VERSION:2.0
CALSCALE:GREGORIAN
PRODID:adamgibbons/ics
METHOD:PUBLISH
X-PUBLISHED-TTL:PT1H
BEGIN:VEVENT
UID:402@event.cologne
SUMMARY:Einführung für Schulen in die Anwendung Edumaps
DTSTAMP:20260420T164134Z
DTSTART:20260420T130000Z
DTEND:20260420T143000Z
DESCRIPTION:EintrittFrei\n\nFür Lehrkräfte und pädagogisches Personal an Kö
	lner Schulen\n\n15 bis 16:30 Uhr\n\nDie Teilnahme ist kostenlos.
URL:https://event.cologne/event/einfuhrung-fur-schulen-in-die-anwendung-edu
	maps
LOCATION:Online-Veranstaltung - None None\, None None
STATUS:CONFIRMED
CATEGORIES:EintrittFrei
X-ALT-DESC;FMTTYPE=text/html:<p><strong>EintrittFrei</strong></p><p>Für Leh
	rkräfte und pädagogisches Personal an Kölner Schulen</p><p>15 bis 16:30 Uh
	r</p><p>Die Teilnahme ist kostenlos.</p>
BEGIN:VALARM
ACTION:DISPLAY
DESCRIPTION:Einführung für Schulen in die Anwendung Edumaps
TRIGGER:-PT1H
END:VALARM
END:VEVENT
END:VCALENDAR
