BEGIN:VCALENDAR
VERSION:2.0
CALSCALE:GREGORIAN
PRODID:adamgibbons/ics
METHOD:PUBLISH
X-PUBLISHED-TTL:PT1H
BEGIN:VEVENT
UID:251@event.cologne
SUMMARY:Ein halbes Jahrhundert Forschungsreisen in Brasilien
DTSTAMP:20260420T182357Z
DTSTART:20260312T180000Z
DTEND:20260312T210000Z
DESCRIPTION:Nippes\n\nVortrag im Botanischen Garten\n\n19 Uhr\n\nkostenfrei
URL:https://event.cologne/event/ein-halbes-jahrhundert-forschungsreisen-in-
	brasilien
GEO:50.9608;6.96835
LOCATION:Grüne Schule Flora im Botanischen Garten - Amsterdamer Straße 34 N
	one\, 50735 Köln
STATUS:CONFIRMED
CATEGORIES:Nippes,Vortrag
X-ALT-DESC;FMTTYPE=text/html:<p><strong>Nippes</strong></p><p>Vortrag im Bo
	tanischen Garten</p><p>19 Uhr</p><p>kostenfrei</p>
BEGIN:VALARM
ACTION:DISPLAY
DESCRIPTION:Ein halbes Jahrhundert Forschungsreisen in Brasilien
TRIGGER:-PT1H
END:VALARM
END:VEVENT
END:VCALENDAR
