BEGIN:VCALENDAR
VERSION:2.0
CALSCALE:GREGORIAN
PRODID:adamgibbons/ics
METHOD:PUBLISH
X-PUBLISHED-TTL:PT1H
BEGIN:VEVENT
UID:320@event.cologne
SUMMARY:Ein Gaumenspaziergang durch die Welt des Tees im Botanischen Garten
DTSTAMP:20260420T182358Z
DTSTART:20260314T180000Z
DTEND:20260315T150000Z
DESCRIPTION:Nippes\n\nTradition\, Zubereitung und Geschmacksvielfalt\n\njew
	eils von 10 bis 16 Uhr\n\nDer Eintritt ist frei.
URL:https://event.cologne/event/ein-gaumenspaziergang-durch-die-welt-des-te
	es-im-botanischen-garten
GEO:50.9592;6.97221
LOCATION:Flora und Botanischer Garten - Alter Stammheimer Weg (Haupteingang
	) \, 50735 Köln
STATUS:CONFIRMED
CATEGORIES:Nippes
X-ALT-DESC;FMTTYPE=text/html:<p><strong>Nippes</strong></p><p>Tradition, Zu
	bereitung und Geschmacksvielfalt</p><p>jeweils von 10 bis 16 Uhr</p><p>Der
	 Eintritt ist frei.</p>
BEGIN:VALARM
ACTION:DISPLAY
DESCRIPTION:Ein Gaumenspaziergang durch die Welt des Tees im Botanischen Ga
	rten
TRIGGER:-PT1H
END:VALARM
END:VEVENT
END:VCALENDAR
