BEGIN:VCALENDAR
VERSION:2.0
CALSCALE:GREGORIAN
PRODID:adamgibbons/ics
METHOD:PUBLISH
X-PUBLISHED-TTL:PT1H
BEGIN:VEVENT
UID:142@event.cologne
SUMMARY:Edelsteintage Köln 2026
DTSTAMP:20260420T181652Z
DTSTART:20260411T090000Z
DTEND:20260411T090000Z
DESCRIPTION:Publikumsmesse\, Verkauf von Edelsteinen\, Schmuck\, Mineralien
	\, Heilsteinen\,\nFossilien und Zubehör\, ca. 50 Aussteller aus dem In- un
	d Ausland\nKinder bis 14 Jahre frei
URL:https://event.cologne/event/edelsteintage-koln-2026
GEO:50.9366;6.95874
LOCATION:Gürzenich - Martinstraße 29-37\, 50667 Köln
STATUS:CONFIRMED
CATEGORIES:
X-ALT-DESC;FMTTYPE=text/html:<p>Publikumsmesse, Verkauf von Edelsteinen, Sc
	hmuck, Mineralien, Heilsteinen, Fossilien und Zubehör, ca. 50 Aussteller a
	us dem In- und Ausland<br>Kinder bis 14 Jahre frei</p>
BEGIN:VALARM
ACTION:DISPLAY
DESCRIPTION:Edelsteintage Köln 2026
TRIGGER:-PT1H
END:VALARM
END:VEVENT
END:VCALENDAR
