BEGIN:VCALENDAR
VERSION:2.0
CALSCALE:GREGORIAN
PRODID:adamgibbons/ics
METHOD:PUBLISH
X-PUBLISHED-TTL:PT1H
BEGIN:VEVENT
UID:729@event.cologne
SUMMARY:dreißig. Wie zur Hölle kommen wir durch die Dreißiger – Tour 2026
DTSTAMP:20260420T182355Z
DTSTART:20260501T160000Z
DTEND:20260501T160000Z
DESCRIPTION:Bestuhlt
URL:https://event.cologne/event/dreissig-wie-zur-holle-kommen-wir-durch-die
	-dreissiger-tour-2026-1
GEO:50.9459;6.97042
LOCATION:Tanzbrunnen - Rheinparkweg 1\, 50679 Köln
STATUS:CONFIRMED
CATEGORIES:
X-ALT-DESC;FMTTYPE=text/html:<p>Bestuhlt</p>
BEGIN:VALARM
ACTION:DISPLAY
DESCRIPTION:dreißig. Wie zur Hölle kommen wir durch die Dreißiger – Tour 20
	26
TRIGGER:-PT1H
END:VALARM
END:VEVENT
END:VCALENDAR
