BEGIN:VCALENDAR
VERSION:2.0
CALSCALE:GREGORIAN
PRODID:adamgibbons/ics
METHOD:PUBLISH
X-PUBLISHED-TTL:PT1H
BEGIN:VEVENT
UID:177@event.cologne
SUMMARY:Dominik Merscheid: Guter Dinge
DTSTAMP:20260420T181803Z
DTSTART:20260329T130000Z
DTEND:20260329T200000Z
DESCRIPTION:Innenstadt\, EintrittFrei\n\nDominik präsentiert euch sein bran
	dneues Album! Im Rahmen von Sonntags in der\nBibliothek im Interim der Zen
	tralbibliothek\n\n15 Uhr\n\nDie Veranstaltung ist kostenlos.
URL:https://event.cologne/event/dominik-merscheid-guter-dinge
GEO:50.9371;6.95656
LOCATION:Interim Zentralbibliothek - Hohe Straße 68-82\, 50667 Köln
STATUS:CONFIRMED
CATEGORIES:EintrittFrei,Innenstadt,Konzert
X-ALT-DESC;FMTTYPE=text/html:<p><strong>Innenstadt, EintrittFrei</strong></
	p><p>Dominik präsentiert euch sein brandneues Album! Im Rahmen von Sonntag
	s in der Bibliothek im Interim der Zentralbibliothek</p><p>15 Uhr</p><p>Di
	e Veranstaltung ist kostenlos.</p>
BEGIN:VALARM
ACTION:DISPLAY
DESCRIPTION:Dominik Merscheid: Guter Dinge
TRIGGER:-PT1H
END:VALARM
END:VEVENT
END:VCALENDAR
