BEGIN:VCALENDAR
VERSION:2.0
CALSCALE:GREGORIAN
PRODID:adamgibbons/ics
METHOD:PUBLISH
X-PUBLISHED-TTL:PT1H
BEGIN:VEVENT
UID:80@event.cologne
SUMMARY:Dominik Eulberg – Prachtliebe & Wunderfakten
DTSTAMP:20260420T182317Z
DTSTART:20261126T180000Z
DTEND:20261126T180000Z
DESCRIPTION:Bestuhlt
URL:https://event.cologne/event/dominik-eulberg-prachtliebe-and-wunderfakte
	n
GEO:50.9459;6.97042
LOCATION:Tanzbrunnen - Rheinparkweg 1\, 50679 Köln
STATUS:CONFIRMED
CATEGORIES:
X-ALT-DESC;FMTTYPE=text/html:<p>Bestuhlt</p>
BEGIN:VALARM
ACTION:DISPLAY
DESCRIPTION:Dominik Eulberg – Prachtliebe & Wunderfakten
TRIGGER:-PT1H
END:VALARM
END:VEVENT
END:VCALENDAR
