BEGIN:VCALENDAR
VERSION:2.0
CALSCALE:GREGORIAN
PRODID:adamgibbons/ics
METHOD:PUBLISH
X-PUBLISHED-TTL:PT1H
BEGIN:VEVENT
UID:658@event.cologne
SUMMARY:Dokumentarfilm Playing with Fire: An Ecosexual Emergency
DTSTAMP:20260420T182330Z
DTSTART:20260424T160000Z
DTEND:20260424T181500Z
DESCRIPTION:Innenstadt\n\nZwei Filmemacherinnen zeigen uns\, wie die Klimak
	atastrophe mit sozialer\nGerechtigkeit und dem Einstehen gegen Rassismus u
	nd Transfeindlichkeit\nzusammengedacht werden sollte.\n\n18 bis 20:15 Uhr\
	n\nVorverkauf: 9 Euro\, ermäßigt 6 Euro Tageskasse: 10 Euro\, ermäßigt 7 E
	uro
URL:https://event.cologne/event/dokumentarfilm-playing-with-fire-an-ecosexu
	al-emergency
LOCATION:Filmforum NRW e. V. - Kino im Museum Ludwig - Bischofsgartenstraße
	 1\, 50667 Köln
STATUS:CONFIRMED
CATEGORIES:Innenstadt,Kultur
X-ALT-DESC;FMTTYPE=text/html:<p><strong>Innenstadt</strong></p><p>Zwei Film
	emacherinnen zeigen uns, wie die Klimakatastrophe mit sozialer Gerechtigke
	it und dem Einstehen gegen Rassismus und Transfeindlichkeit zusammengedach
	t werden sollte.</p><p>18 bis 20:15 Uhr</p><p>Vorverkauf: 9 Euro, ermäßigt
	 6 Euro Tageskasse: 10 Euro, ermäßigt 7 Euro</p>
BEGIN:VALARM
ACTION:DISPLAY
DESCRIPTION:Dokumentarfilm Playing with Fire: An Ecosexual Emergency
TRIGGER:-PT1H
END:VALARM
END:VEVENT
END:VCALENDAR
