BEGIN:VCALENDAR
VERSION:2.0
CALSCALE:GREGORIAN
PRODID:adamgibbons/ics
METHOD:PUBLISH
X-PUBLISHED-TTL:PT1H
BEGIN:VEVENT
UID:719@event.cologne
SUMMARY:Dokumentarfilm Nelly und Nadine
DTSTAMP:20260420T182346Z
DTSTART:20260429T170000Z
DTEND:20260429T190000Z
DESCRIPTION:Ein ergreifender Film über eine lesbische Liebe und über die No
	twendigkeit\npersönlichen und kollektiven Erinnerns.\n\n19 bis 21 Uhr\n\n9
	 Euro\, ermäßigt 6 Euro
URL:https://event.cologne/event/dokumentarfilm-nelly-und-nadine
LOCATION:Filmhaus Köln - Maybachstraße 111\, 50670 Köln
STATUS:CONFIRMED
CATEGORIES:Film,Innenstadt
X-ALT-DESC;FMTTYPE=text/html:<p>Ein ergreifender Film über eine lesbische L
	iebe und über die Notwendigkeit persönlichen und kollektiven Erinnerns.</p
	><p>19 bis 21 Uhr</p><p>9 Euro, ermäßigt 6 Euro</p>
BEGIN:VALARM
ACTION:DISPLAY
DESCRIPTION:Dokumentarfilm Nelly und Nadine
TRIGGER:-PT1H
END:VALARM
END:VEVENT
END:VCALENDAR
