BEGIN:VCALENDAR
VERSION:2.0
CALSCALE:GREGORIAN
PRODID:adamgibbons/ics
METHOD:PUBLISH
X-PUBLISHED-TTL:PT1H
BEGIN:VEVENT
UID:255@event.cologne
SUMMARY:Diskussion Adenauers Traum – Köln auf dem Weg zu Olympischen und Pa
	ralympischen Spielen
DTSTAMP:20260420T182358Z
DTSTART:20260312T170000Z
DTEND:20260312T193000Z
DESCRIPTION:Innenstadt\n\nGemeinsam mit unserem Sportamt diskutieren wir üb
	er Chancen\, Herausforderungen\nund Perspektiven Olympischer und Paralympi
	scher Spiele in Köln\n\n18 bis 20:30 Uhr\n\nDer Eintritt ist frei.
URL:https://event.cologne/event/diskussion-adenauers-traum-koln-auf-dem-weg
	-zu-olympischen-und-paralympischen-spielen
LOCATION:Historisches Archiv mit Rheinischem Bildarchiv - Eifelwall 5\, 506
	74 Köln
STATUS:CONFIRMED
CATEGORIES:Innenstadt,Wortveranstaltung
X-ALT-DESC;FMTTYPE=text/html:<p><strong>Innenstadt</strong></p><p>Gemeinsam
	 mit unserem Sportamt diskutieren wir über Chancen, Herausforderungen und 
	Perspektiven Olympischer und Paralympischer Spiele in Köln</p><p>18 bis 20
	:30 Uhr</p><p>Der Eintritt ist frei.</p>
BEGIN:VALARM
ACTION:DISPLAY
DESCRIPTION:Diskussion Adenauers Traum – Köln auf dem Weg zu Olympischen un
	d Paralympischen Spielen
TRIGGER:-PT1H
END:VALARM
END:VEVENT
END:VCALENDAR
