BEGIN:VCALENDAR
VERSION:2.0
CALSCALE:GREGORIAN
PRODID:adamgibbons/ics
METHOD:PUBLISH
X-PUBLISHED-TTL:PT1H
BEGIN:VEVENT
UID:750@event.cologne
SUMMARY:Digitaler Freitag
DTSTAMP:20260422T102405Z
DTSTART:20260605T083000Z
DTEND:20260605T100000Z
DESCRIPTION:Eine Selbsthilfegruppe zu digitalen Themen aus der Reihe Digita
	le Werkstatt in\nder Stadtteilbibliothek Kalk.\n\n10:30 bis 12 Uhr\n\nDie 
	Teilnahme ist kostenlos.
URL:https://event.cologne/event/digitaler-freitag-2
GEO:50.9394;7.00844
LOCATION:Stadtteilbibliothek Kalk - Kalker Hauptstraße 247-273\, 51103 Köln
STATUS:CONFIRMED
CATEGORIES:EintrittFrei,Kalk
X-ALT-DESC;FMTTYPE=text/html:<p>Eine Selbsthilfegruppe zu digitalen Themen 
	aus der Reihe Digitale Werkstatt in der Stadtteilbibliothek Kalk.</p><p>10
	:30 bis 12 Uhr</p><p>Die Teilnahme ist kostenlos.</p>
BEGIN:VALARM
ACTION:DISPLAY
DESCRIPTION:Digitaler Freitag
TRIGGER:-PT1H
END:VALARM
END:VEVENT
END:VCALENDAR
