BEGIN:VCALENDAR
VERSION:2.0
CALSCALE:GREGORIAN
PRODID:adamgibbons/ics
METHOD:PUBLISH
X-PUBLISHED-TTL:PT1H
BEGIN:VEVENT
UID:415@event.cologne
SUMMARY:Digital starten – aber sicher!
DTSTAMP:20260420T181657Z
DTSTART:20260423T150000Z
DTEND:20260423T170000Z
DESCRIPTION:Innenstadt\, EintrittFrei\n\nErste Hilfe für Eltern\, die ihre 
	Kinder beim Start in die digitalen Medien\nbegleiten wollen. Im Rahmen der
	 Reihe Digitale Werkstatt im Interim\nZentralbibliothek.\n\n17 bis 19 Uhr\
	n\nDie Teilnahme ist kostenlos.
URL:https://event.cologne/event/digital-starten-aber-sicher
GEO:50.9371;6.95656
LOCATION:Interim Zentralbibliothek - Hohe Straße 68-82\, 50667 Köln
STATUS:CONFIRMED
CATEGORIES:EintrittFrei,Innenstadt
X-ALT-DESC;FMTTYPE=text/html:<p><strong>Innenstadt, EintrittFrei</strong></
	p><p>Erste Hilfe für Eltern, die ihre Kinder beim Start in die digitalen M
	edien begleiten wollen. Im Rahmen der Reihe Digitale Werkstatt im Interim 
	Zentralbibliothek.</p><p>17 bis 19 Uhr</p><p>Die Teilnahme ist kostenlos.<
	/p>
BEGIN:VALARM
ACTION:DISPLAY
DESCRIPTION:Digital starten – aber sicher!
TRIGGER:-PT1H
END:VALARM
END:VEVENT
END:VCALENDAR
