BEGIN:VCALENDAR
VERSION:2.0
CALSCALE:GREGORIAN
PRODID:adamgibbons/ics
METHOD:PUBLISH
X-PUBLISHED-TTL:PT1H
BEGIN:VEVENT
UID:749@event.cologne
SUMMARY:Digital Fit
DTSTAMP:20260422T100916Z
DTSTART:20260605T080000Z
DTEND:20260605T100000Z
DESCRIPTION:Ihr Einstieg in die digitale Welt. Ehrenamtliche Hilfestellung 
	zu allen Fragen\nrund um Smartphone\, Internet und mehr. Im Rahmen der Rei
	he Digitale Werkstatt in\nder Stadtteilbibliothek Porz.\n\n10 bis 12 Uhr\n
	\nDie Teilnahme ist kostenlos.
URL:https://event.cologne/event/digital-fit-3
GEO:50.885;7.05522
LOCATION:Stadtteilbibliothek Porz - Alfred-Moritz-Platz 1\, 51143 Köln
STATUS:CONFIRMED
CATEGORIES:EintrittFrei,Porz
X-ALT-DESC;FMTTYPE=text/html:<p>Ihr Einstieg in die digitale Welt. Ehrenamt
	liche Hilfestellung zu allen Fragen rund um Smartphone, Internet und mehr.
	 Im Rahmen der Reihe Digitale Werkstatt in der Stadtteilbibliothek Porz.</
	p><p>10 bis 12 Uhr</p><p>Die Teilnahme ist kostenlos.</p>
BEGIN:VALARM
ACTION:DISPLAY
DESCRIPTION:Digital Fit
TRIGGER:-PT1H
END:VALARM
END:VEVENT
END:VCALENDAR
