BEGIN:VCALENDAR
VERSION:2.0
CALSCALE:GREGORIAN
PRODID:adamgibbons/ics
METHOD:PUBLISH
X-PUBLISHED-TTL:PT1H
BEGIN:VEVENT
UID:743@event.cologne
SUMMARY:Die unendliche Geschichte
DTSTAMP:20260422T103226Z
DTSTART:20260510T130000Z
DTEND:20260510T140000Z
DESCRIPTION:Interaktive\, szenische Lesung für Kinder im Rahmen von Sonntag
	s in der\nBibliothek im Interim der Zentralbibliothek\n\n15 bis 16 Uhr\n\n
	Die Veranstaltung ist kostenlos.
URL:https://event.cologne/event/die-unendliche-geschichte
GEO:50.9371;6.95656
LOCATION:Interim Zentralbibliothek - Hohe Straße 68-82\, 50667 Köln
STATUS:CONFIRMED
CATEGORIES:EintrittFrei,Innenstadt,Lesung
X-ALT-DESC;FMTTYPE=text/html:<p>Interaktive, szenische Lesung für Kinder im
	 Rahmen von Sonntags in der Bibliothek im Interim der Zentralbibliothek</p
	><p>15 bis 16 Uhr</p><p>Die Veranstaltung ist kostenlos.</p>
BEGIN:VALARM
ACTION:DISPLAY
DESCRIPTION:Die unendliche Geschichte
TRIGGER:-PT1H
END:VALARM
END:VEVENT
END:VCALENDAR
