BEGIN:VCALENDAR
VERSION:2.0
CALSCALE:GREGORIAN
PRODID:adamgibbons/ics
METHOD:PUBLISH
X-PUBLISHED-TTL:PT1H
BEGIN:VEVENT
UID:40@event.cologne
SUMMARY:Die Udo Jürgens Story
DTSTAMP:20260420T181854Z
DTSTART:20260425T173000Z
DTEND:20260425T173000Z
DESCRIPTION:Mit Gabriela Benesch & Alex Parker\nBestuhlt
URL:https://event.cologne/event/die-udo-jurgens-story
GEO:50.9459;6.97042
LOCATION:Tanzbrunnen - Rheinparkweg 1\, 50679 Köln
STATUS:CONFIRMED
CATEGORIES:
X-ALT-DESC;FMTTYPE=text/html:<p>Mit Gabriela Benesch &amp; Alex Parker<br>B
	estuhlt</p>
BEGIN:VALARM
ACTION:DISPLAY
DESCRIPTION:Die Udo Jürgens Story
TRIGGER:-PT1H
END:VALARM
END:VEVENT
END:VCALENDAR
