BEGIN:VCALENDAR
VERSION:2.0
CALSCALE:GREGORIAN
PRODID:adamgibbons/ics
METHOD:PUBLISH
X-PUBLISHED-TTL:PT1H
BEGIN:VEVENT
UID:27@event.cologne
SUMMARY:Die Schöne und das Biest – das Musical
DTSTAMP:20260420T181911Z
DTSTART:20260329T090000Z
DTEND:20260329T090000Z
DESCRIPTION:Musical\n\nas Highlight für die ganze Familie!\nBestuhlt
URL:https://event.cologne/event/die-schone-und-das-biest-das-musical
GEO:50.9459;6.97042
LOCATION:Tanzbrunnen - Rheinparkweg 1\, 50679 Köln
STATUS:CONFIRMED
CATEGORIES:Musical
X-ALT-DESC;FMTTYPE=text/html:<p><strong>Musical</strong></p><p>as Highlight
	 für die ganze Familie!<br>Bestuhlt</p>
BEGIN:VALARM
ACTION:DISPLAY
DESCRIPTION:Die Schöne und das Biest – das Musical
TRIGGER:-PT1H
END:VALARM
END:VEVENT
END:VCALENDAR
