BEGIN:VCALENDAR
VERSION:2.0
CALSCALE:GREGORIAN
PRODID:adamgibbons/ics
METHOD:PUBLISH
X-PUBLISHED-TTL:PT1H
BEGIN:VEVENT
UID:279@event.cologne
SUMMARY:Die Kraft der Sonne
DTSTAMP:20260420T181700Z
DTSTART:20260408T090000Z
DTEND:20260408T103000Z
DESCRIPTION:Innenstadt\, EintrittFrei\n\nSpannende Experimente im Rahmen un
	seres Programms Maker Kids in den Osterferien.\nIm Interim Zentralbiblioth
	ek.\n\n11 bis 12:30 Uhr\n\nDie Teilnahme ist kostenlos.
URL:https://event.cologne/event/die-kraft-der-sonne
GEO:50.9371;6.95656
LOCATION:Interim Zentralbibliothek - Hohe Straße 68-82\, 50667 Köln
STATUS:CONFIRMED
CATEGORIES:EintrittFrei,Familie,Innenstadt
X-ALT-DESC;FMTTYPE=text/html:<p><strong>Innenstadt, EintrittFrei</strong></
	p><p>Spannende Experimente im Rahmen unseres Programms Maker Kids in den O
	sterferien. Im Interim Zentralbibliothek.</p><p>11 bis 12:30 Uhr</p><p>Die
	 Teilnahme ist kostenlos.</p>
BEGIN:VALARM
ACTION:DISPLAY
DESCRIPTION:Die Kraft der Sonne
TRIGGER:-PT1H
END:VALARM
END:VEVENT
END:VCALENDAR
