BEGIN:VCALENDAR
VERSION:2.0
CALSCALE:GREGORIAN
PRODID:adamgibbons/ics
METHOD:PUBLISH
X-PUBLISHED-TTL:PT1H
BEGIN:VEVENT
UID:283@event.cologne
SUMMARY:Die Kraft der Sonne
DTSTAMP:20260420T181653Z
DTSTART:20260409T090000Z
DTEND:20260409T103000Z
DESCRIPTION:Rodenkirchen\, EintrittFrei\n\nSpannende Experimente im Rahmen 
	unseres Programms Maker Kids in den Osterferien.\nIn der Stadtteilbiblioth
	ek Rodenkirchen.\n\n11 bis 12:30 Uhr\n\nDie Teilnahme ist kostenlos.
URL:https://event.cologne/event/die-kraft-der-sonne-1
GEO:50.8894;6.99171
LOCATION:Stadtteilbibliothek Rodenkirchen - Schillingsrotter Straße 38\, 50
	996 Köln
STATUS:CONFIRMED
CATEGORIES:EintrittFrei,Familie,Rodenkirchen
X-ALT-DESC;FMTTYPE=text/html:<p><strong>Rodenkirchen, EintrittFrei</strong>
	</p><p>Spannende Experimente im Rahmen unseres Programms Maker Kids in den
	 Osterferien. In der Stadtteilbibliothek Rodenkirchen.</p><p>11 bis 12:30 
	Uhr</p><p>Die Teilnahme ist kostenlos.</p>
BEGIN:VALARM
ACTION:DISPLAY
DESCRIPTION:Die Kraft der Sonne
TRIGGER:-PT1H
END:VALARM
END:VEVENT
END:VCALENDAR
