BEGIN:VCALENDAR
VERSION:2.0
CALSCALE:GREGORIAN
PRODID:adamgibbons/ics
METHOD:PUBLISH
X-PUBLISHED-TTL:PT1H
BEGIN:VEVENT
UID:298@event.cologne
SUMMARY:Die Haut der Bäume – Funktion\, Schönheit und Verwendung der Baumri
	nde
DTSTAMP:20260420T182402Z
DTSTART:20260412T090000Z
DTEND:20260412T200000Z
DESCRIPTION:Nippes\n\nThemenführung im Botanischen Garten\n\n11 Uhr\n\nDie 
	Teilnahme an der Führung kostet sieben Euro für Erwachsene und vier Euro f
	ür\nKinder\, Schüler*innen und Studierende\, für Mitglieder des Freundeskr
	eises\, und\nfür Inhaber*innen des KölnPass\, eines Behindertenausweises\,
	 und der\nEhrenamtskarte NRW.
URL:https://event.cologne/event/die-haut-der-baume-funktion-schonheit-und-v
	erwendung-der-baumrinde
GEO:50.9592;6.97221
LOCATION:Flora und Botanischer Garten - Alter Stammheimer Weg (Haupteingang
	) \, 50735 Köln
STATUS:CONFIRMED
CATEGORIES:Führung,Nippes
X-ALT-DESC;FMTTYPE=text/html:<p><strong>Nippes</strong></p><p>Themenführung
	 im Botanischen Garten</p><p>11 Uhr</p><p>Die Teilnahme an der Führung kos
	tet sieben Euro für Erwachsene und vier Euro für Kinder, Schüler*innen und
	 Studierende, für Mitglieder des Freundeskreises, und für Inhaber*innen de
	s KölnPass, eines Behindertenausweises, und der Ehrenamtskarte NRW.</p>
BEGIN:VALARM
ACTION:DISPLAY
DESCRIPTION:Die Haut der Bäume – Funktion, Schönheit und Verwendung der Bau
	mrinde
TRIGGER:-PT1H
END:VALARM
END:VEVENT
END:VCALENDAR
