BEGIN:VCALENDAR
VERSION:2.0
CALSCALE:GREGORIAN
PRODID:adamgibbons/ics
METHOD:PUBLISH
X-PUBLISHED-TTL:PT1H
BEGIN:VEVENT
UID:152@event.cologne
SUMMARY:Dick Pics – Selbstentblößung als Machtinstrument
DTSTAMP:20260420T182214Z
DTSTART:20260318T173000Z
DTEND:20260318T190000Z
DESCRIPTION:Innenstadt\n\nIn diesem Gespräch wird die unfreiwillige Zusendu
	ng von Penisbildern im Internet\nthematisiert und wie Empfängerinnen mit i
	hnen umgehen können.\n\n18:30 bis 20 Uhr\n\nDie Teilnhame ist kostenlos
URL:https://event.cologne/event/dick-pics-selbstentblossung-als-machtinstru
	ment
GEO:50.9349;6.95065
LOCATION:Kölner VHS-Forum im Museum am Neumarkt - Cäcilienstraße  29-33\, 5
	0667 Köln
STATUS:CONFIRMED
CATEGORIES:Innenstadt,Wortveranstaltung
X-ALT-DESC;FMTTYPE=text/html:<p><strong>Innenstadt</strong></p><p>In diesem
	 Gespräch wird die unfreiwillige Zusendung von Penisbildern im Internet th
	ematisiert und wie Empfängerinnen mit ihnen umgehen können.</p><p>18:30 bi
	s 20 Uhr</p><p>Die Teilnhame ist kostenlos</p>
BEGIN:VALARM
ACTION:DISPLAY
DESCRIPTION:Dick Pics – Selbstentblößung als Machtinstrument
TRIGGER:-PT1H
END:VALARM
END:VEVENT
END:VCALENDAR
