BEGIN:VCALENDAR
VERSION:2.0
CALSCALE:GREGORIAN
PRODID:adamgibbons/ics
METHOD:PUBLISH
X-PUBLISHED-TTL:PT1H
BEGIN:VEVENT
UID:345@event.cologne
SUMMARY:Deutzer Hafen – Teilplan A in Köln-Deutz
DTSTAMP:20260420T181722Z
DTSTART:20260219T180000Z
DTEND:20260323T210000Z
DESCRIPTION:Innenstadt\n\nInformieren Sie sich zur Planung und geben Sie ei
	ne Stellungnahme ab.\n\nMontag bis Donnerstag\, 9 bis 15 Uhr Freitag\, 9 b
	is 13 Uhr
URL:https://event.cologne/event/deutzer-hafen-teilplan-a-in-koln-deutz
LOCATION:Stadtplanungsamt – Öffentlichkeitsbeteiligung - Stadthaus Deutz\, 
	Riegel A\, Raum 09B44\, Willy-Brandt-Platz  2\, 5679 Köln
STATUS:CONFIRMED
CATEGORIES:Innenstadt
X-ALT-DESC;FMTTYPE=text/html:<p><strong>Innenstadt</strong></p><p>Informier
	en Sie sich zur Planung und geben Sie eine Stellungnahme ab.</p><p>Montag 
	bis Donnerstag, 9 bis 15 Uhr Freitag, 9 bis 13 Uhr</p>
BEGIN:VALARM
ACTION:DISPLAY
DESCRIPTION:Deutzer Hafen – Teilplan A in Köln-Deutz
TRIGGER:-PT1H
END:VALARM
END:VEVENT
END:VCALENDAR
