BEGIN:VCALENDAR
VERSION:2.0
CALSCALE:GREGORIAN
PRODID:adamgibbons/ics
METHOD:PUBLISH
X-PUBLISHED-TTL:PT1H
BEGIN:VEVENT
UID:639@event.cologne
SUMMARY:Der Porzer Musikwettbewerb – Schulkonzert der GGS Porz Hauptstraße
DTSTAMP:20260420T182356Z
DTSTART:20260518T170000Z
DTEND:20260519T200000Z
DESCRIPTION:Eine unterhaltsame Erzählung über die musikalische Kuh Bärbelch
	e\, die unbedingt\nam Porzer Wettbewerb teilnehmen möchte – Klassenstreich
	er der GGS Porz\nHauptstraße\n\nBeginn: 18 Uhr\n\nKostenlos
URL:https://event.cologne/event/der-porzer-musikwettbewerb-schulkonzert-der
	-ggs-porz-hauptstrasse
LOCATION:Rathaussaal Porz - Alfred-Moritz-Platz  1\, 51143 Köln
STATUS:CONFIRMED
CATEGORIES:EintrittFrei,Konzert,Porz
X-ALT-DESC;FMTTYPE=text/html:<p>Eine unterhaltsame Erzählung über die musik
	alische Kuh Bärbelche, die unbedingt am Porzer Wettbewerb teilnehmen möcht
	e – Klassenstreicher der GGS Porz Hauptstraße</p><p><strong>Beginn:</stron
	g> 18 Uhr</p><p>Kostenlos</p>
BEGIN:VALARM
ACTION:DISPLAY
DESCRIPTION:Der Porzer Musikwettbewerb – Schulkonzert der GGS Porz Hauptstr
	aße
TRIGGER:-PT1H
END:VALARM
END:VEVENT
END:VCALENDAR
