BEGIN:VCALENDAR
VERSION:2.0
CALSCALE:GREGORIAN
PRODID:adamgibbons/ics
METHOD:PUBLISH
X-PUBLISHED-TTL:PT1H
BEGIN:VEVENT
UID:242@event.cologne
SUMMARY:Der Märchenkessel
DTSTAMP:20260420T181545Z
DTSTART:20260419T130000Z
DTEND:20260419T200000Z
DESCRIPTION:Innenstadt\, EintrittFrei\n\nLauscht noch nie gehörten\, märche
	nhaften Kurzgeschichten. Im Rahmen von Sonntags\nin der Bibliothek im Inte
	rim Zentralbibliothek.\n\n15 Uhr\n\nDie Veranstaltung ist kostenlos.
URL:https://event.cologne/event/der-marchenkessel
GEO:50.9371;6.95656
LOCATION:Interim Zentralbibliothek - Hohe Straße 68-82\, 50667 Köln
STATUS:CONFIRMED
CATEGORIES:EintrittFrei,Innenstadt,Lesung
X-ALT-DESC;FMTTYPE=text/html:<p><strong>Innenstadt, EintrittFrei</strong></
	p><p>Lauscht noch nie gehörten, märchenhaften Kurzgeschichten. Im Rahmen v
	on Sonntags in der Bibliothek im Interim Zentralbibliothek.</p><p>15 Uhr</
	p><p>Die Veranstaltung ist kostenlos.</p>
BEGIN:VALARM
ACTION:DISPLAY
DESCRIPTION:Der Märchenkessel
TRIGGER:-PT1H
END:VALARM
END:VEVENT
END:VCALENDAR
