BEGIN:VCALENDAR
VERSION:2.0
CALSCALE:GREGORIAN
PRODID:adamgibbons/ics
METHOD:PUBLISH
X-PUBLISHED-TTL:PT1H
BEGIN:VEVENT
UID:268@event.cologne
SUMMARY:Der große Medien-Zauber – Wahrheit oder Quatsch?!
DTSTAMP:20260420T182336Z
DTSTART:20260330T110000Z
DTEND:20260330T140000Z
DESCRIPTION:Innenstadt\, EintrittFrei\n\nEin Workshop zum Thema Fake News i
	m Rahmen unseres Programms Maker Kids in den\nOsterferien. Im Interim Zent
	ralbibliothek.\n\n13 bis 16 Uhr\n\nDie Teilnahme ist kostenlos.
URL:https://event.cologne/event/der-grosse-medien-zauber-wahrheit-oder-quat
	sch
GEO:50.9371;6.95656
LOCATION:Interim Zentralbibliothek - Hohe Straße 68-82\, 50667 Köln
STATUS:CONFIRMED
CATEGORIES:EintrittFrei,Familie,Innenstadt
X-ALT-DESC;FMTTYPE=text/html:<p><strong>Innenstadt, EintrittFrei</strong></
	p><p>Ein Workshop zum Thema Fake News im Rahmen unseres Programms Maker Ki
	ds in den Osterferien. Im Interim Zentralbibliothek.</p><p>13 bis 16 Uhr</
	p><p>Die Teilnahme ist kostenlos.</p>
BEGIN:VALARM
ACTION:DISPLAY
DESCRIPTION:Der große Medien-Zauber – Wahrheit oder Quatsch?!
TRIGGER:-PT1H
END:VALARM
END:VEVENT
END:VCALENDAR
