BEGIN:VCALENDAR
VERSION:2.0
CALSCALE:GREGORIAN
PRODID:adamgibbons/ics
METHOD:PUBLISH
X-PUBLISHED-TTL:PT1H
BEGIN:VEVENT
UID:189@event.cologne
SUMMARY:Dekonstruktion und Montage – von Collagen und Liebesaffären zu Köln
DTSTAMP:20260420T182359Z
DTSTART:20260305T230000Z
DTEND:20260418T220000Z
DESCRIPTION:Innenstadt\n\nAusstellung\, die sich ausschließlich dem Thema C
	ollagen widmet. Eröffnung am\nFreitag\, den 6. März 2026\, um 18 Uhr im Ki
	nosaal des Filmforums.\n\nDer Eintritt ist frei.
URL:https://event.cologne/event/dekonstruktion-und-montage-von-collagen-und
	-liebesaffaren-zu-koln
LOCATION:Kunst- und Museumsbibliothek (Lesesaal Museum Ludwig) - Bischofsga
	rtenstraße 1\, 50667 Köln
STATUS:CONFIRMED
CATEGORIES:Ausstellung,Innenstadt
X-ALT-DESC;FMTTYPE=text/html:<p><strong>Innenstadt</strong></p><p>Ausstellu
	ng, die sich ausschließlich dem Thema Collagen widmet. Eröffnung am Freita
	g, den 6. März 2026, um 18 Uhr im Kinosaal des Filmforums.</p><p>Der Eintr
	itt ist frei.</p>
BEGIN:VALARM
ACTION:DISPLAY
DESCRIPTION:Dekonstruktion und Montage – von Collagen und Liebesaffären zu 
	Köln
TRIGGER:-PT1H
END:VALARM
END:VEVENT
END:VCALENDAR
