BEGIN:VCALENDAR
VERSION:2.0
CALSCALE:GREGORIAN
PRODID:adamgibbons/ics
METHOD:PUBLISH
X-PUBLISHED-TTL:PT1H
BEGIN:VEVENT
UID:107@event.cologne
SUMMARY:DEINE FREUNDE – KINDSKÖPFE IM PARK 2026
DTSTAMP:20260420T182154Z
DTSTART:20260705T143000Z
DTEND:20260705T143000Z
URL:https://event.cologne/event/deine-freunde-kindskopfe-im-park-2026
GEO:50.9459;6.97042
LOCATION:Tanzbrunnen - Rheinparkweg 1\, 50679 Köln
STATUS:CONFIRMED
CATEGORIES:
BEGIN:VALARM
ACTION:DISPLAY
DESCRIPTION:DEINE FREUNDE – KINDSKÖPFE IM PARK 2026
TRIGGER:-PT1H
END:VALARM
END:VEVENT
END:VCALENDAR
