BEGIN:VCALENDAR
VERSION:2.0
CALSCALE:GREGORIAN
PRODID:adamgibbons/ics
METHOD:PUBLISH
X-PUBLISHED-TTL:PT1H
BEGIN:VEVENT
UID:160@event.cologne
SUMMARY:Das verlorene Schwert
DTSTAMP:20260420T181657Z
DTSTART:20260407T120000Z
DTEND:20260407T150000Z
DESCRIPTION:Mülheim\, EintrittFrei\n\nEin Krimi-Ratespiel in der Stadtteilb
	ibliothek Mülheim.\n\n14 bis 17 Uhr\n\nDie Teilnahme ist kostenlos.
URL:https://event.cologne/event/das-verlorene-schwert
GEO:50.961;7.00412
LOCATION:Stadtteilbibliothek Mülheim - Wiener Platz 2a\, 51065 Köln
STATUS:CONFIRMED
CATEGORIES:EintrittFrei,Mülheim,Sport
X-ALT-DESC;FMTTYPE=text/html:<p><strong>Mülheim, EintrittFrei</strong></p><
	p>Ein Krimi-Ratespiel in der Stadtteilbibliothek Mülheim.</p><p>14 bis 17 
	Uhr</p><p>Die Teilnahme ist kostenlos.</p>
BEGIN:VALARM
ACTION:DISPLAY
DESCRIPTION:Das verlorene Schwert
TRIGGER:-PT1H
END:VALARM
END:VEVENT
END:VCALENDAR
