BEGIN:VCALENDAR
VERSION:2.0
CALSCALE:GREGORIAN
PRODID:adamgibbons/ics
METHOD:PUBLISH
X-PUBLISHED-TTL:PT1H
BEGIN:VEVENT
UID:742@event.cologne
SUMMARY:Das Sonnensystem auf dem Dachboden
DTSTAMP:20260422T101056Z
DTSTART:20260503T130000Z
DTEND:20260503T140000Z
DESCRIPTION:In einer interaktiven Lesung wird Kindern spannendes Weltraumwi
	ssen vermittelt.\nIm Rahmen von Sonntags in der Bibliothek im Interim der 
	Zentralbibliothek\n\n15 bis 16 Uhr\n\nDie Veranstaltung ist kostenlos.
URL:https://event.cologne/event/das-sonnensystem-auf-dem-dachboden
GEO:50.9371;6.95656
LOCATION:Interim Zentralbibliothek - Hohe Straße 68-82\, 50667 Köln
STATUS:CONFIRMED
CATEGORIES:EintrittFrei,Innenstadt,Lesung
X-ALT-DESC;FMTTYPE=text/html:<p>In einer interaktiven Lesung wird Kindern s
	pannendes Weltraumwissen vermittelt. Im Rahmen von Sonntags in der Bibliot
	hek im Interim der Zentralbibliothek</p><p>15 bis 16 Uhr</p><p>Die Veranst
	altung ist kostenlos.</p>
BEGIN:VALARM
ACTION:DISPLAY
DESCRIPTION:Das Sonnensystem auf dem Dachboden
TRIGGER:-PT1H
END:VALARM
END:VEVENT
END:VCALENDAR
