BEGIN:VCALENDAR
VERSION:2.0
CALSCALE:GREGORIAN
PRODID:adamgibbons/ics
METHOD:PUBLISH
X-PUBLISHED-TTL:PT1H
BEGIN:VEVENT
UID:232@event.cologne
SUMMARY:Daniel Speck: Villa Rivolta
DTSTAMP:20260420T181546Z
DTSTART:20260414T173000Z
DTEND:20260414T200000Z
DESCRIPTION:Innenstadt\n\nBuchvorstellung des neuen Romans des Bella German
	ia-Autors. Im Rahmen unseres\nKulturprogramms im Interim Zentralbibliothek
	.\n\n19:30 Uhr\n\nDer Eintritt kostet 10 Euro\, ermäßigt 8 Euro.
URL:https://event.cologne/event/daniel-speck-villa-rivolta
GEO:50.9371;6.95656
LOCATION:Interim Zentralbibliothek - Hohe Straße 68-82\, 50667 Köln
STATUS:CONFIRMED
CATEGORIES:Innenstadt,Lesung
X-ALT-DESC;FMTTYPE=text/html:<p><strong>Innenstadt</strong></p><p>Buchvorst
	ellung des neuen Romans des Bella Germania-Autors. Im Rahmen unseres Kultu
	rprogramms im Interim Zentralbibliothek.</p><p>19:30 Uhr</p><p>Der Eintrit
	t kostet 10 Euro, ermäßigt 8 Euro.</p>
BEGIN:VALARM
ACTION:DISPLAY
DESCRIPTION:Daniel Speck: Villa Rivolta
TRIGGER:-PT1H
END:VALARM
END:VEVENT
END:VCALENDAR
