BEGIN:VCALENDAR
VERSION:2.0
CALSCALE:GREGORIAN
PRODID:adamgibbons/ics
METHOD:PUBLISH
X-PUBLISHED-TTL:PT1H
BEGIN:VEVENT
UID:75@event.cologne
SUMMARY:Dad Harmony
DTSTAMP:20260420T181534Z
DTSTART:20261107T180000Z
DTEND:20261107T180000Z
URL:https://event.cologne/event/dad-harmony
GEO:50.9459;6.97042
LOCATION:Tanzbrunnen - Rheinparkweg 1\, 50679 Köln
STATUS:CONFIRMED
CATEGORIES:
BEGIN:VALARM
ACTION:DISPLAY
DESCRIPTION:Dad Harmony
TRIGGER:-PT1H
END:VALARM
END:VEVENT
END:VCALENDAR
